BEGIN:VCALENDAR
PRODID:-//www.mehr-demokratie.de//MehrDemokratie Veranstaltungen//DE
VERSION:2.0
CALSCALE:GREGORIAN
METHOD:PUBLISH
CLASS:PUBLIC
BEGIN:VTIMEZONE
TZID:Europe/Berlin
LAST-MODIFIED:20230407T050750Z
TZURL:https://www.tzurl.org/zoneinfo-outlook/Europe/Berlin
X-LIC-LOCATION:Europe/Berlin
BEGIN:DAYLIGHT
TZNAME:CEST
TZOFFSETFROM:+0100
TZOFFSETTO:+0200
DTSTART:19700329T020000
RRULE:FREQ=YEARLY;BYMONTH=3;BYDAY=-1SU
END:DAYLIGHT
BEGIN:STANDARD
TZNAME:CET
TZOFFSETFROM:+0200
TZOFFSETTO:+0100
DTSTART:19701025T030000
RRULE:FREQ=YEARLY;BYMONTH=10;BYDAY=-1SU
END:STANDARD
END:VTIMEZONE
BEGIN:VEVENT
UID:md_events_6908
DTSTAMP:20260421T094410Z
DTSTART;TZID=Europe/Berlin:20260423T190000
DTEND;TZID=Europe/Berlin:20260423T203000
TZID:Europe/Berlin
LOCATION:Kulturraum, Röwwekamp 14, 46325 Borken
SUMMARY:Bürgerräte – Sind Bürgerinnen und Bürger die besseren Entscheider?
DESCRIPTION:Die Bürgerinitiative Zukunftsturm lädt für den 23. April zur Infoveranstaltung „Bürgerräte – Sind Bürgerinnen und Bürger die besseren Entscheider?“ ein. Referent ist Hubert Borgmann, der sich seit Langem mit Fragen direkter politischer Beteiligungsmöglichkeiten beschäftigt. Hubert Borgmann wird in die Funktionsweise von Bürgerräten einführen, im Anschluss findet eine Diskussion statt. Gesprochen wird über den Anspruch und die Funktionsweise von Bürgerräten als eine neue Form der demokratischen Beteiligung und Entscheidungsfindung. Bürgerräte sind Versammlungen von 30 bis 200 per Los zufällig ausgewählten Bürgerinnen und Bürgern, die bei mehreren Terminen gemeinsam und in Kleingruppen ein vorgegebenes Thema diskutieren und der Politik ihre Handlungsempfehlungen als Bürgergutachten übergeben. Eine Reihe von Erfahrungen mit dieser Form einer sehr direkten demokratischen Meinungsbildung zeigen, dass die Empfehlungen der Bürgerräte mehr an der Sache orientiert sowie mutiger und weitreichender sind als Entscheidungen von den gewählten politischen Vertreterinnen und Vertretern. Der Eintritt ist frei. ...
URL;VALUE=URI:https://www.mehr-demokratie.de/mehr-bewegen/veranstaltungen/
END:VEVENT
END:VCALENDAR
        