BEGIN:VCALENDAR
PRODID:-//www.mehr-demokratie.de//MehrDemokratie Veranstaltungen//DE
VERSION:2.0
CALSCALE:GREGORIAN
METHOD:PUBLISH
CLASS:PUBLIC
BEGIN:VTIMEZONE
TZID:Europe/Berlin
LAST-MODIFIED:20230407T050750Z
TZURL:https://www.tzurl.org/zoneinfo-outlook/Europe/Berlin
X-LIC-LOCATION:Europe/Berlin
BEGIN:DAYLIGHT
TZNAME:CEST
TZOFFSETFROM:+0100
TZOFFSETTO:+0200
DTSTART:19700329T020000
RRULE:FREQ=YEARLY;BYMONTH=3;BYDAY=-1SU
END:DAYLIGHT
BEGIN:STANDARD
TZNAME:CET
TZOFFSETFROM:+0200
TZOFFSETTO:+0100
DTSTART:19701025T030000
RRULE:FREQ=YEARLY;BYMONTH=10;BYDAY=-1SU
END:STANDARD
END:VTIMEZONE
BEGIN:VEVENT
UID:md_events_6911
DTSTAMP:20260422T140157Z
DTSTART;TZID=Europe/Berlin:20260512T190000
DTEND;TZID=Europe/Berlin:20260512T203000
TZID:Europe/Berlin
LOCATION: 
SUMMARY:Sprechen & Zuhören: Hoffnung in Zeiten von Krieg und Frieden
DESCRIPTION:Mehr Demokratie e.V. organisiert eine bundesweite Themenwoche zu „Krieg und Frieden“. An zahlreichen Orten finden zu dieser Zeit Dialog-Veranstaltungen im Format Sprechen & Zuhören statt. In diesem Rahmen laden wir dazu ein, auch online ins Gespräch zu kommen zu der Frage „Wie geht es mir mit der Hoffnung in diesen Zeiten?“ „Sprechen und Zuhören“ ist ein inspirierendes Gesprächsformat, bei dem es um Dialog statt Debatte geht. Durch klare Regeln entsteht ein offener Raum, der echten Austausch und Verständigung fördert. Die Teilnehmenden sind eingeladen, von sich zu erzählen und anderen zuzuhören. Für alle, die mit ihrer Sicht der Dinge, mit ihren Erfahrungen gehört werden wollen und die an weiteren Perspektiven interessiert sind. Dieses Angebot wird moderiert von Sabine Falk und Osman Yoncaova. Wir freuen uns auf Sie! Die Veranstaltung ist kostenfrei. Eine Anmeldung unter https://eveeno.com/524181859 ist erforderlich. Einlass 18.55 Uhr Gerne können Sie diese Einladung an interessierte Menschen weitergeben. ...
URL;VALUE=URI:https://www.mehr-demokratie.de/mehr-bewegen/veranstaltungen/
END:VEVENT
END:VCALENDAR
        