BEGIN:VCALENDAR
PRODID:-//www.mehr-demokratie.de//MehrDemokratie Veranstaltungen//DE
VERSION:2.0
CALSCALE:GREGORIAN
METHOD:PUBLISH
CLASS:PUBLIC
BEGIN:VTIMEZONE
TZID:Europe/Berlin
LAST-MODIFIED:20230407T050750Z
TZURL:https://www.tzurl.org/zoneinfo-outlook/Europe/Berlin
X-LIC-LOCATION:Europe/Berlin
BEGIN:DAYLIGHT
TZNAME:CEST
TZOFFSETFROM:+0100
TZOFFSETTO:+0200
DTSTART:19700329T020000
RRULE:FREQ=YEARLY;BYMONTH=3;BYDAY=-1SU
END:DAYLIGHT
BEGIN:STANDARD
TZNAME:CET
TZOFFSETFROM:+0200
TZOFFSETTO:+0100
DTSTART:19701025T030000
RRULE:FREQ=YEARLY;BYMONTH=10;BYDAY=-1SU
END:STANDARD
END:VTIMEZONE
BEGIN:VEVENT
UID:md_events_6269
DTSTAMP:20250826T145048Z
DTSTART;TZID=Europe/Berlin:20250910T180000
DTEND;TZID=Europe/Berlin:20250910T203000
TZID:Europe/Berlin
LOCATION:Kunstmuseum Kloster Unser Lieben Frauen, Regierungsstraße 4-6, 39104 Magdeburg
SUMMARY:Sprechen & Zuhören in Magdeburg: Wende und Wendeerfahrungen
DESCRIPTION:Stadtgespräche über Gemeinschaft in herausgeforderten Zeiten - 1. Teil der Dialogreihe Diese dreiteilige Dialogreihe lädt ein zu persönlichem Austausch über Heimat, Verlust und Zugehörigkeit – über politische Systeme hinweg, zwischen gestern, heute und morgen. Das von Mehr Demokratie e. V. entwickelte Dialogformat Sprechen & Zuhören schafft einen geschützten Raum, der unterschiedliche Perspektiven sichtbar macht und echte Begegnung ermöglicht, zu Themen, die im Innen und Außen Spannungen erzeugen. Ort: Kunstmuseum Kloster Unser Lieben Frauen, Regierungsstraße 4-6, 39104 Magdeburg ...
URL;VALUE=URI:https://www.mehr-demokratie.de/mehr-bewegen/veranstaltungen/
END:VEVENT
END:VCALENDAR
        