BEGIN:VCALENDAR
PRODID:-//www.mehr-demokratie.de//MehrDemokratie Veranstaltungen//DE
VERSION:2.0
CALSCALE:GREGORIAN
METHOD:PUBLISH
CLASS:PUBLIC
BEGIN:VTIMEZONE
TZID:Europe/Berlin
LAST-MODIFIED:20230407T050750Z
TZURL:https://www.tzurl.org/zoneinfo-outlook/Europe/Berlin
X-LIC-LOCATION:Europe/Berlin
BEGIN:DAYLIGHT
TZNAME:CEST
TZOFFSETFROM:+0100
TZOFFSETTO:+0200
DTSTART:19700329T020000
RRULE:FREQ=YEARLY;BYMONTH=3;BYDAY=-1SU
END:DAYLIGHT
BEGIN:STANDARD
TZNAME:CET
TZOFFSETFROM:+0200
TZOFFSETTO:+0100
DTSTART:19701025T030000
RRULE:FREQ=YEARLY;BYMONTH=10;BYDAY=-1SU
END:STANDARD
END:VTIMEZONE
BEGIN:VEVENT
UID:md_events_6318
DTSTAMP:20250922T123756Z
DTSTART;TZID=Europe/Berlin:20251101T110000
DTEND;TZID=Europe/Berlin:20251101T130000
TZID:Europe/Berlin
LOCATION: Halle
SUMMARY:Sprechen & Zuhören in Halle auf dem Silbersalzfestival
DESCRIPTION:Demokratie braucht Zuhören als gelebte Praxis – gerade in Zeiten von Klimakrise, Migration, Digitalisierung und geopolitischen Spannungen, die Unsicherheit und Überforderung erzeugen. Wie können wir trotz Spaltung und unterschiedlicher Meinungen Brücken bauen, Unterschiede aushalten und gemeinsam neue Kraft für Lösungen schöpfen?  Ein Gesprächraum im Rahmen des Silbersalz Science & Media Festivals in Halle/Saale   Link: https://www.silbersalz-festival.com/de   ...
URL;VALUE=URI:https://www.mehr-demokratie.de/mehr-bewegen/veranstaltungen/
END:VEVENT
END:VCALENDAR
        