BEGIN:VCALENDAR
PRODID:-//www.mehr-demokratie.de//MehrDemokratie Veranstaltungen//DE
VERSION:2.0
CALSCALE:GREGORIAN
METHOD:PUBLISH
CLASS:PUBLIC
BEGIN:VTIMEZONE
TZID:Europe/Berlin
LAST-MODIFIED:20230407T050750Z
TZURL:https://www.tzurl.org/zoneinfo-outlook/Europe/Berlin
X-LIC-LOCATION:Europe/Berlin
BEGIN:DAYLIGHT
TZNAME:CEST
TZOFFSETFROM:+0100
TZOFFSETTO:+0200
DTSTART:19700329T020000
RRULE:FREQ=YEARLY;BYMONTH=3;BYDAY=-1SU
END:DAYLIGHT
BEGIN:STANDARD
TZNAME:CET
TZOFFSETFROM:+0200
TZOFFSETTO:+0100
DTSTART:19701025T030000
RRULE:FREQ=YEARLY;BYMONTH=10;BYDAY=-1SU
END:STANDARD
END:VTIMEZONE
BEGIN:VEVENT
UID:md_events_6352
DTSTAMP:20251002T230001Z
DTSTART;TZID=Europe/Berlin:20251106T190000
DTEND;TZID=Europe/Berlin:20251106T210000
TZID:Europe/Berlin
LOCATION:LA VIE, Dieckmannstraße 127, 48161 Münster
SUMMARY:Sprechen & Zuhören in Münster - Thema Demokratie
DESCRIPTION:Dieses Sprechen & Zuhören findet im Treffpunkt LA VIE statt, ein Begegnungszentrum (in städtischer Trägerschaft) in Münster-Gievenbeck. Veranstalter ist das Haus der Familie Münster, eine staatlich anerkannte Weiterbildungseinrichtung in Trägerschaft des Bistums Münster (Kurs-Nr. Z4124-700). Moderiert wird der Abend von Ulrich Krömer und Kathrin Rick. Bitte melden Sie sich per Mail an: info@hdf-muenster.de ...
URL;VALUE=URI:https://www.mehr-demokratie.de/mehr-bewegen/veranstaltungen/
END:VEVENT
END:VCALENDAR
        