BEGIN:VCALENDAR
PRODID:-//www.mehr-demokratie.de//MehrDemokratie Veranstaltungen//DE
VERSION:2.0
CALSCALE:GREGORIAN
METHOD:PUBLISH
CLASS:PUBLIC
BEGIN:VTIMEZONE
TZID:Europe/Berlin
LAST-MODIFIED:20230407T050750Z
TZURL:https://www.tzurl.org/zoneinfo-outlook/Europe/Berlin
X-LIC-LOCATION:Europe/Berlin
BEGIN:DAYLIGHT
TZNAME:CEST
TZOFFSETFROM:+0100
TZOFFSETTO:+0200
DTSTART:19700329T020000
RRULE:FREQ=YEARLY;BYMONTH=3;BYDAY=-1SU
END:DAYLIGHT
BEGIN:STANDARD
TZNAME:CET
TZOFFSETFROM:+0200
TZOFFSETTO:+0100
DTSTART:19701025T030000
RRULE:FREQ=YEARLY;BYMONTH=10;BYDAY=-1SU
END:STANDARD
END:VTIMEZONE
BEGIN:VEVENT
UID:md_events_6366
DTSTAMP:20251025T000826Z
DTSTART;TZID=Europe/Berlin:20251029T180000
DTEND;TZID=Europe/Berlin:20251029T200000
TZID:Europe/Berlin
LOCATION:Karins's Krone, Bergstraße 15, 26122 Oldenburg
SUMMARY:Ortstreffen Oldenburg
DESCRIPTION:Beim nächsten Ortstreffen in Oldenburg geht es zunächst um Transparenz und Informationszugang, mit kurzem Input und Diskussion dazu. Im zweiten Teil des Treffens gehen wir in persönliche Gespräche zu einem aktuellen politischen Thema. Bringen Sie gerne eine politische Frage mit, die Sie gerade sehr bewegt. Wir wählen dann gemeinsam aus, zu welchem Thema wir diesen Teil gestalten. Interessierte melden Sich bitte unter oldenburg@mehr-demokratie.de ...
URL;VALUE=URI:https://www.mehr-demokratie.de/mehr-bewegen/veranstaltungen/
END:VEVENT
END:VCALENDAR
        