BEGIN:VCALENDAR
PRODID:-//www.mehr-demokratie.de//MehrDemokratie Veranstaltungen//DE
VERSION:2.0
CALSCALE:GREGORIAN
METHOD:PUBLISH
CLASS:PUBLIC
BEGIN:VTIMEZONE
TZID:Europe/Berlin
LAST-MODIFIED:20230407T050750Z
TZURL:https://www.tzurl.org/zoneinfo-outlook/Europe/Berlin
X-LIC-LOCATION:Europe/Berlin
BEGIN:DAYLIGHT
TZNAME:CEST
TZOFFSETFROM:+0100
TZOFFSETTO:+0200
DTSTART:19700329T020000
RRULE:FREQ=YEARLY;BYMONTH=3;BYDAY=-1SU
END:DAYLIGHT
BEGIN:STANDARD
TZNAME:CET
TZOFFSETFROM:+0200
TZOFFSETTO:+0100
DTSTART:19701025T030000
RRULE:FREQ=YEARLY;BYMONTH=10;BYDAY=-1SU
END:STANDARD
END:VTIMEZONE
BEGIN:VEVENT
UID:md_events_6395
DTSTAMP:20251014T172727Z
DTSTART;TZID=Europe/Berlin:20251027T180000
DTEND;TZID=Europe/Berlin:20251027T203000
TZID:Europe/Berlin
LOCATION:Rathaus der Stadt Forst (Lausitz), Sitzungssaal L203/L204 (2.OG), Lindenstraße 10-12, 03149 Forst (Lausitz)
SUMMARY:Sprechen & Zuhören in Forst - 35 Jahre Einheit
DESCRIPTION:IM DIALOG. MIT HERZ. FÜR FORST. Der Bürgerdialog Sprechen & Zuhören lädt alle Menschen aus Forst (Lausitz) ein, gemeinsam auf 35 Jahre Deutsche Einheit und persönliche Lebensgeschichten zurückzublicken – mit all ihren Erfolgen, Verlusten und Umbrüchen. In moderierter Runde sprechen wir darüber, wie sich unser Leben seit der Einheit verändert hat:  Wie schauen Sie auf 35 Jahre Einheit zurück? Wie fühlt sich Heimat an, wenn sich vieles verändert? Wie prägen unsere Erfahrungen das Miteinander heute? Es geht um persönliche Erfahrungen, ehrliche Worte und echtes Zuhören. Die Veranstaltung schafft einen geschützten Raum für Begegnung – jenseits von Meinungen und Positionen. Bei einer leckeren Suppe laden wir Sie ein, Ihre Erinnerungen zu teilen. Niemand soll überzeugt werden –  alle werden gehört.  Jede Erfahrung ist einzigartig und erzählt ein Stück unserer gemeinsamen Geschichte. Lebenswege stehen im Mittelpunkt:  individuell, berührend und manchmal widersprüchlich. Moderation Katharina Göhring ist Mitbegründerin des Netzwerks 3te Generation Ost, das ostdeutschen Perspektiven Raum gibt und den Austausch zwischen  Generationen fördert. Sie ist Wendekind und macht in ihrer Arbeit kollektive Erinnerung lebendig erfahrbar.  Sie sind herzlich eingeladen! Die Veranstaltung ist kostenfrei. Eine vorherige Anmeldung unterstützt die bessere Vorbereitung, ist jedoch nicht zwingend erforderlich. Mit freundlicher Unterstützung von Bündnis Brandenburg ... weil es um Menschen geht ...
URL;VALUE=URI:https://www.mehr-demokratie.de/mehr-bewegen/veranstaltungen/
END:VEVENT
END:VCALENDAR
        