BEGIN:VCALENDAR
PRODID:-//www.mehr-demokratie.de//MehrDemokratie Veranstaltungen//DE
VERSION:2.0
CALSCALE:GREGORIAN
METHOD:PUBLISH
CLASS:PUBLIC
BEGIN:VTIMEZONE
TZID:Europe/Berlin
LAST-MODIFIED:20230407T050750Z
TZURL:https://www.tzurl.org/zoneinfo-outlook/Europe/Berlin
X-LIC-LOCATION:Europe/Berlin
BEGIN:DAYLIGHT
TZNAME:CEST
TZOFFSETFROM:+0100
TZOFFSETTO:+0200
DTSTART:19700329T020000
RRULE:FREQ=YEARLY;BYMONTH=3;BYDAY=-1SU
END:DAYLIGHT
BEGIN:STANDARD
TZNAME:CET
TZOFFSETFROM:+0200
TZOFFSETTO:+0100
DTSTART:19701025T030000
RRULE:FREQ=YEARLY;BYMONTH=10;BYDAY=-1SU
END:STANDARD
END:VTIMEZONE
BEGIN:VEVENT
UID:md_events_6879
DTSTAMP:20260419T184125Z
DTSTART;TZID=Europe/Berlin:20260509T093000
DTEND;TZID=Europe/Berlin:20260509T170000
TZID:Europe/Berlin
LOCATION:Gemeindehaus Bergerhausen - Saal, Löcherstraße 4, 88400 Biberach-Bergerhausen
SUMMARY:Fortbildung Sprechen & Zuhören in Biberach
DESCRIPTION:Schulung „Zuhören als Potenzial für die Demokratie.“ Dialogräume gestalten – Demokratie stärken In einer Zeit wachsender gesellschaftlicher Spannungen ist es wichtiger denn je, Räume für echten Dialog und respektvolles Zuhören zu schaffen. Die Partnerschaft für Demokratie Landkreis Biberach lädt Sie herzlich ein zur ganztägigen Schulung „Zuhören als Potenzial für die Demokratie. Einführung in das Dialogformat Sprechen & Zuhören“ am 9. Mai in Biberach. Ziel ist es, die demokratische Kultur zu stärken und Ihnen ein Format an die Hand zu geben, mit dem Sie Menschen mit unterschiedlichen Meinungen in einen konstruktiven Austausch bringen können. Sprechen & Zuhören gibt eine Struktur vor, die allen die gleiche Redezeit ermöglicht, persönliches Teilen und aktives Zuhören fördert. Was erwartet Sie? ● Einführung in das Format Sprechen & Zuhören Lernen Sie die Grundlagen und Anwendungsbereiche dieses Dialogformats kennen. ● Vertiefte Moderationskompetenz Erfahren Sie, wie Sie Dialogrunden sicher und wertschätzend moderieren – auch bei kontroversen Themen. ● Organisation von Dialogveranstaltungen Erhalten Sie praxisnahe Tipps zur Planung, Durchführung und Nachbereitung von Dialogformaten. Die Fortbildung ist für Sie geeignet, wenn Sie aus Biberach, dem Landkreis Biberach oder Oberschwaben sind, z.B.: ● Haupt- und Ehrenamtliche aus Gemeinden, religiösen Gemeinschaften und Vereinen ● Pädagogische Fachkräfte ● Arbeits- und Unternehmenswelt ● Menschen allen Alters, die sich für den sozialen Zusammenhalt und die Gemeinschaft einsetzen möchten  ● Menschen mit ersten Moderationserfahrungen sowie erfahrene Moderatorinnen und Moderatoren Machen Sie mit und gestalten Sie lebendige Dialogräume für eine starke Demokratie in unserer Region! Die Teilnahme ist kostenfrei. Die Zahl der Plätze ist begrenzt. Anmeldung erforderlich  Mehr Informationen: www.pfd-bc.de Sprechen & Zuhören Die Veranstaltung ist eine Kooperation der Partnerschaft für Demokratie des Landkreises Biberach, der Volkshochschule Biberach und des Vereins Mehr Demokratie e.V. Die Schulung wird von der Partnerschaft für Demokratie im Landkreis Biberach finanziell unterstützt, die durch das Bundesministerium für Bildung, Familie, Senioren, Frauen und Jugend im Rahmen des Bundesprogramms „Demokratie leben!“ gefördert wird. ...
URL;VALUE=URI:https://www.mehr-demokratie.de/mehr-bewegen/veranstaltungen/
END:VEVENT
END:VCALENDAR
        