BEGIN:VCALENDAR
PRODID:-//www.mehr-demokratie.de//MehrDemokratie Veranstaltungen//DE
VERSION:2.0
CALSCALE:GREGORIAN
METHOD:PUBLISH
CLASS:PUBLIC
BEGIN:VTIMEZONE
TZID:Europe/Berlin
LAST-MODIFIED:20230407T050750Z
TZURL:https://www.tzurl.org/zoneinfo-outlook/Europe/Berlin
X-LIC-LOCATION:Europe/Berlin
BEGIN:DAYLIGHT
TZNAME:CEST
TZOFFSETFROM:+0100
TZOFFSETTO:+0200
DTSTART:19700329T020000
RRULE:FREQ=YEARLY;BYMONTH=3;BYDAY=-1SU
END:DAYLIGHT
BEGIN:STANDARD
TZNAME:CET
TZOFFSETFROM:+0200
TZOFFSETTO:+0100
DTSTART:19701025T030000
RRULE:FREQ=YEARLY;BYMONTH=10;BYDAY=-1SU
END:STANDARD
END:VTIMEZONE
BEGIN:VEVENT
UID:md_events_6904
DTSTAMP:20260417T103409Z
DTSTART;TZID=Europe/Berlin:20260504T181500
DTEND;TZID=Europe/Berlin:20260504T194500
TZID:Europe/Berlin
LOCATION:Universität Bielefeld, Hörsaalgebäude Y, Raum Y-0-111, Konsequenz 41 b, 33613 Bielefeld
SUMMARY:Kommunalwahlen, Kammern und Bürgerräte – Ungleichheit und Formen ihrer politischen Repräsentation
DESCRIPTION:Gesellschaftliche Ungleichheit verlangt politische Repräsentation, symbolische und materielle. Politische Repräsentation pendelt zwischen dem Ganzen der Ungleichheit und seinen Teilen. Politische Repräsentation verringert gesellschaftliche Ungleichheit und verstärkt sie. Rolle und Mechanismen der politischen Repräsentation werden anhand von insgesamt vier alten und neuen Formen diskutiert und verglichen. Zu den alten Formen gehören das allgemeine und gleiche Wahlrecht bei Kommunalwahlen und die Gruppenwahlen bei Industrie-, Handels- und Handwerkskammern. Zu den neuen Formen gehören der „Digitale Zwilling“ und losbasierte Bürgerräte. Im Ergebnis gelingt es politischer Repräsentation derzeit nur noch „lokal“ das Ganze gesellschaftlicher Ungleichheit darzustellen. Referent ist Prof. Dr. Detlev Sack vom Institut für Demokratie- und Partizipationsforschung (IDPF) der Bergischen Universität Wuppertal. Eine Veranstaltung des Forums Offene Wissenschaft im Rahmen der Vortragsreihe  "Ungleichheiten – erwünscht, notwendig, problematisch?" ...
URL;VALUE=URI:https://www.mehr-demokratie.de/mehr-bewegen/veranstaltungen/
END:VEVENT
END:VCALENDAR
        