BEGIN:VCALENDAR
PRODID:-//www.mehr-demokratie.de//MehrDemokratie Veranstaltungen//DE
VERSION:2.0
CALSCALE:GREGORIAN
METHOD:PUBLISH
CLASS:PUBLIC
BEGIN:VTIMEZONE
TZID:Europe/Berlin
LAST-MODIFIED:20230407T050750Z
TZURL:https://www.tzurl.org/zoneinfo-outlook/Europe/Berlin
X-LIC-LOCATION:Europe/Berlin
BEGIN:DAYLIGHT
TZNAME:CEST
TZOFFSETFROM:+0100
TZOFFSETTO:+0200
DTSTART:19700329T020000
RRULE:FREQ=YEARLY;BYMONTH=3;BYDAY=-1SU
END:DAYLIGHT
BEGIN:STANDARD
TZNAME:CET
TZOFFSETFROM:+0200
TZOFFSETTO:+0100
DTSTART:19701025T030000
RRULE:FREQ=YEARLY;BYMONTH=10;BYDAY=-1SU
END:STANDARD
END:VTIMEZONE
BEGIN:VEVENT
UID:md_events_6906
DTSTAMP:20260419T190437Z
DTSTART;TZID=Europe/Berlin:20260428T113000
DTEND;TZID=Europe/Berlin:20260428T174500
TZID:Europe/Berlin
LOCATION:TUM Think Tank, Richard-Wagner Str. 1, 80333 München
SUMMARY:Bürgerräte: Praxis, Visionen und mögliche Zukunftsszenarien
DESCRIPTION:Wie können normale Bürger die Zukunft der Demokratie mitgestalten? Bürgerräte, in denen zufällig ausgeloste Bürgerinnen und Bürger über wichtige politische Themen beraten und politische Empfehlungen erarbeiten, gehören zu den spannendsten demokratischen Innovationen unserer Zeit. Sie stärken das Vertrauen in das Urteilsvermögen der Bürgerinnen und Bürger, fördern eine inklusive Deliberation und bringen vernachlässigte Perspektiven stärker zur Geltung. Dennoch bleiben Herausforderungen bestehen: begrenzter politischer Einfluss, eine Tendenz zum Konsens und ungleiche Beteiligungsquoten zwischen verschiedenen sozialen Gruppen. Wie können sich Bürgerräte also weiterentwickeln, um ihr Versprechen einzulösen? Nehmen Sie an diesem Workshop teil und finden Sie es heraus: Programm-Höhepunkt: Eine Diskussion mit Prof. Graham Smith (London), Azucena Moran (Potsdam), Dr. Melisa Ross (Bremen) und Prof. Manon Westphal (München) In diesem Workshop bringt das Democratic Innovations Lab führende Wissenschaftlerinnen und Wissenschaftler zusammen, um genau diese Fragen zu erörtern, aktuelle Verfahren zu untersuchen und Wege für eine stärkere demokratische Teilhabe und Resilienz aufzuzeigen. Anmeldung Möchten Sie teilnehmen? Melden Sie sich per E-Mail an theory@hfp.tum.de an! ...
URL;VALUE=URI:https://www.mehr-demokratie.de/mehr-bewegen/veranstaltungen/
END:VEVENT
END:VCALENDAR
        